BEGIN:VCALENDAR
VERSION:2.0
PRODID:-//Tennisclub Boye e.V. - ECPv6.15.20//NONSGML v1.0//EN
CALSCALE:GREGORIAN
METHOD:PUBLISH
X-WR-CALNAME:Tennisclub Boye e.V.
X-ORIGINAL-URL:https://tc-boye.de
X-WR-CALDESC:Veranstaltungen für Tennisclub Boye e.V.
REFRESH-INTERVAL;VALUE=DURATION:PT1H
X-Robots-Tag:noindex
X-PUBLISHED-TTL:PT1H
BEGIN:VTIMEZONE
TZID:Europe/Berlin
BEGIN:DAYLIGHT
TZOFFSETFROM:+0100
TZOFFSETTO:+0200
TZNAME:CEST
DTSTART:20250330T010000
END:DAYLIGHT
BEGIN:STANDARD
TZOFFSETFROM:+0200
TZOFFSETTO:+0100
TZNAME:CET
DTSTART:20251026T010000
END:STANDARD
BEGIN:DAYLIGHT
TZOFFSETFROM:+0100
TZOFFSETTO:+0200
TZNAME:CEST
DTSTART:20260329T010000
END:DAYLIGHT
BEGIN:STANDARD
TZOFFSETFROM:+0200
TZOFFSETTO:+0100
TZNAME:CET
DTSTART:20261025T010000
END:STANDARD
BEGIN:DAYLIGHT
TZOFFSETFROM:+0100
TZOFFSETTO:+0200
TZNAME:CEST
DTSTART:20270328T010000
END:DAYLIGHT
BEGIN:STANDARD
TZOFFSETFROM:+0200
TZOFFSETTO:+0100
TZNAME:CET
DTSTART:20271031T010000
END:STANDARD
END:VTIMEZONE
BEGIN:VEVENT
DTSTART;TZID=Europe/Berlin:20260411T100000
DTEND;TZID=Europe/Berlin:20260411T130000
DTSTAMP:20260423T160409
CREATED:20260314T150242Z
LAST-MODIFIED:20260314T150331Z
UID:2862-1775901600-1775912400@tc-boye.de
SUMMARY:Aufräumtag "Viele Hände\, schnelles Ende"
DESCRIPTION:Liebe Mitglieder des TC Boye\, \nder Schnee ist geschmolzen und das sonnige Wetter bereitet Vorfreude auf die kommende Tennissaison. Wie immer starten wir mit  \nunserem Aufräumtag am Samstag\, den 11.04.2026 um 10.00 Uhr auf unserer schönen Tennisanlage.  \nAlle Mitglieder sind herzlich eingeladen dabei mitzuhelfen\, unsere schöne Tennisanlage mit Clubhaus in gewohntem Glanz erstrahlen zu lassen. \nHilfsmittel und Geräte sind wie immer bitte mitzubringen. Und natürlich gilt wieder: viele Hände\, schnelles Ende.  \nMit sportlichen Grüßen\nDer Vorstand
URL:https://tc-boye.de/event/aufraeumtag-am-samstag-11-04-26-um-10-00-uhr
LOCATION:Clubheim\, Steinbecksweg 5\, Celle\, 29223\, Deutschland
END:VEVENT
END:VCALENDAR