BEGIN:VCALENDAR
VERSION:2.0
PRODID:-//Tennisclub Boye e.V. - ECPv6.15.20//NONSGML v1.0//EN
CALSCALE:GREGORIAN
METHOD:PUBLISH
X-WR-CALNAME:Tennisclub Boye e.V.
X-ORIGINAL-URL:https://tc-boye.de
X-WR-CALDESC:Veranstaltungen für Tennisclub Boye e.V.
REFRESH-INTERVAL;VALUE=DURATION:PT1H
X-Robots-Tag:noindex
X-PUBLISHED-TTL:PT1H
BEGIN:VTIMEZONE
TZID:Europe/Berlin
BEGIN:DAYLIGHT
TZOFFSETFROM:+0100
TZOFFSETTO:+0200
TZNAME:CEST
DTSTART:20250330T010000
END:DAYLIGHT
BEGIN:STANDARD
TZOFFSETFROM:+0200
TZOFFSETTO:+0100
TZNAME:CET
DTSTART:20251026T010000
END:STANDARD
BEGIN:DAYLIGHT
TZOFFSETFROM:+0100
TZOFFSETTO:+0200
TZNAME:CEST
DTSTART:20260329T010000
END:DAYLIGHT
BEGIN:STANDARD
TZOFFSETFROM:+0200
TZOFFSETTO:+0100
TZNAME:CET
DTSTART:20261025T010000
END:STANDARD
BEGIN:DAYLIGHT
TZOFFSETFROM:+0100
TZOFFSETTO:+0200
TZNAME:CEST
DTSTART:20270328T010000
END:DAYLIGHT
BEGIN:STANDARD
TZOFFSETFROM:+0200
TZOFFSETTO:+0100
TZNAME:CET
DTSTART:20271031T010000
END:STANDARD
END:VTIMEZONE
BEGIN:VEVENT
DTSTART;TZID=Europe/Berlin:20260430T200000
DTEND;TZID=Europe/Berlin:20260501T013000
DTSTAMP:20260423T123253
CREATED:20260422T083727Z
LAST-MODIFIED:20260422T084413Z
UID:2902-1777579200-1777599000@tc-boye.de
SUMMARY:TC Boye tanzt in den Mai
DESCRIPTION:TC Boye tanzt in den Mai \nAm Donnerstag\, den 30. April 2026\, laden wir euch herzlich zu unserem Event „TC Boye tanzt in den Mai“ ein. \nAb 20:00 Uhr möchten wir gemeinsam mit euch den Start in den Mai feiern\, einen schönen Abend auf unserer Anlage verbringen und in geselliger Runde zusammenkommen.
URL:https://tc-boye.de/event/tanz-in-dem-mai
LOCATION:Clubheim\, Steinbecksweg 5\, Celle\, 29223\, Deutschland
END:VEVENT
BEGIN:VEVENT
DTSTART;TZID=Europe/Berlin:20260501T130000
DTEND;TZID=Europe/Berlin:20260501T170000
DTSTAMP:20260423T123253
CREATED:20260422T113436Z
LAST-MODIFIED:20260422T113532Z
UID:2924-1777640400-1777654800@tc-boye.de
SUMMARY:Schleifchen-Turnier
DESCRIPTION:Am 1. Mai laden wir herzlich zu unserem Schleifchen-Turnier ein. Von 13 bis 17 Uhr steht bei uns alles unter dem Motto „Tennis für alle“ \nEgal\, ob Anfänger:in oder erfahrener Spieler:in. Der Spaß am gemeinsamen Spiel steht dabei im Vordergrund. \nDie Teilnahmegebühr beträgt 5 Euro Startgeld. \nIm Anschluss an das Turnier möchten wir den Tag in geselliger Runde beim gemeinsamen Grillen ausklingen lassen. \n \nWir freuen uns auf viele Teilnehmende und einen fröhlichen Tennistag beim TC Boye!
URL:https://tc-boye.de/event/schleifchen-turnier-2
LOCATION:Clubheim\, Steinbecksweg 5\, Celle\, 29223\, Deutschland
END:VEVENT
END:VCALENDAR