BEGIN:VCALENDAR
VERSION:2.0
PRODID:-//Tennisclub Boye e.V. - ECPv6.15.20//NONSGML v1.0//EN
CALSCALE:GREGORIAN
METHOD:PUBLISH
X-WR-CALNAME:Tennisclub Boye e.V.
X-ORIGINAL-URL:https://tc-boye.de
X-WR-CALDESC:Veranstaltungen für Tennisclub Boye e.V.
REFRESH-INTERVAL;VALUE=DURATION:PT1H
X-Robots-Tag:noindex
X-PUBLISHED-TTL:PT1H
BEGIN:VTIMEZONE
TZID:Europe/Berlin
BEGIN:DAYLIGHT
TZOFFSETFROM:+0100
TZOFFSETTO:+0200
TZNAME:CEST
DTSTART:20250330T010000
END:DAYLIGHT
BEGIN:STANDARD
TZOFFSETFROM:+0200
TZOFFSETTO:+0100
TZNAME:CET
DTSTART:20251026T010000
END:STANDARD
BEGIN:DAYLIGHT
TZOFFSETFROM:+0100
TZOFFSETTO:+0200
TZNAME:CEST
DTSTART:20260329T010000
END:DAYLIGHT
BEGIN:STANDARD
TZOFFSETFROM:+0200
TZOFFSETTO:+0100
TZNAME:CET
DTSTART:20261025T010000
END:STANDARD
BEGIN:DAYLIGHT
TZOFFSETFROM:+0100
TZOFFSETTO:+0200
TZNAME:CEST
DTSTART:20270328T010000
END:DAYLIGHT
BEGIN:STANDARD
TZOFFSETFROM:+0200
TZOFFSETTO:+0100
TZNAME:CET
DTSTART:20271031T010000
END:STANDARD
END:VTIMEZONE
BEGIN:VEVENT
DTSTART;TZID=Europe/Berlin:20260207T174500
DTEND;TZID=Europe/Berlin:20260207T200000
DTSTAMP:20260423T185504
CREATED:20251226T154225Z
LAST-MODIFIED:20260114T101448Z
UID:2840-1770486300-1770494400@tc-boye.de
SUMMARY:TC Boye Winterturnier im Tenniscenter Celle-Südheide\, Groß Hehlen
DESCRIPTION:Liebe Mitglieder des TC Boye\, \nwie jedes Jahr möchten wir vor Beginn der neuen Saison unser alljährliches Mixed-/Doppel-Winterturnier mit Euch spielen und Euch dazu herzlich einladen. \nEs findet am Samstag\, den 07.02.24 ab 17:45 Uhr in der Tennishalle 1 in Groß Hehlen statt. Der Kostenbeitrag pro Person beträgt 5\,- Euro. \nAnmeldungen erbitten wir über unseren Sportwart Oliver Schubert bis Donnerstag\, den 05.02.24\, 20.00 Uhr.\n \n\nWir freuen uns auf rege Beteiligung! \n  \nMit sportlichen Grüßen \nder Vorstand des TC Boye e.V.
URL:https://tc-boye.de/event/tc-boye-winterturnier-am-07-02-2026
END:VEVENT
END:VCALENDAR